BEGIN:VCALENDAR
VERSION:2.0
PRODID:-//wp-events-plugin.com//7.2.3.1//EN
TZID:Europe/Paris
X-WR-TIMEZONE:Europe/Paris
BEGIN:VEVENT
UID:54@fonsorbes-judo.fr
DTSTART;TZID=Europe/Paris:20260501T090000
DTEND;TZID=Europe/Paris:20260501T173000
DTSTAMP:20260424T061402Z
URL:https://fonsorbes-judo.fr/events/competition-de-torii/
SUMMARY:Compétition du Torii Judo Club
DESCRIPTION:Nous sommes invités à la compétition du Torii Judo club le 0
 1 mai 2006.\n\nLes horaires sont les suivants: mai\n\n 	09h00 à 09h20 Ben
 jamins (2014-2015)\n 	09h40 à 10h00 Minimes (2021-2013)\n 	11h00 à 11h20
  Eveil baby (2020 &amp\; 2021)\n 	13h30 à 13h50 Mini-Poussines Filles (20
 18 - 2019)\n 	14h00 à 14h20 Mini-Poussins Garçons (2018 - 2019)\n 	15h15
  à 15h45 Cadets\, Juniors Seniors (2009 et avant)\n\nAttention: les pouss
 ins ne sont pas engagés dans cette compétition\n\nInscription: Inscripti
 on auprès du club : inscription (mot de passe JudoAF)\n\n&nbsp\;\n\n&nb
 sp\;
ATTACH;FMTTYPE=image/jpeg:https://fonsorbes-judo.fr/wp-content/uploads/202
 5/05/Torii.jpg
CATEGORIES:Inter club
LOCATION:Torii (Martes)\, Gymnase Municipal\, rue du Stade\, Martres-Tolosa
 ne\,  31220\, France
X-APPLE-STRUCTURED-LOCATION;VALUE=URI;X-ADDRESS=Gymnase Municipal\, rue du 
 Stade\, Martres-Tolosane\,  31220\, France;X-APPLE-RADIUS=100;X-TITLE=Tori
 i (Martes):geo:0,0
END:VEVENT
BEGIN:VTIMEZONE
TZID:Europe/Paris
X-LIC-LOCATION:Europe/Paris
BEGIN:DAYLIGHT
DTSTART:20260329T030000
TZOFFSETFROM:+0100
TZOFFSETTO:+0200
TZNAME:CEST
END:DAYLIGHT
END:VTIMEZONE
END:VCALENDAR